BEGIN:VCALENDAR
VERSION:2.0
PRODID:-//Hoffman Estates Park District - ECPv6.15.17.1//NONSGML v1.0//EN
CALSCALE:GREGORIAN
METHOD:PUBLISH
X-ORIGINAL-URL:https://www.heparks.org
X-WR-CALDESC:Events for Hoffman Estates Park District
REFRESH-INTERVAL;VALUE=DURATION:PT1H
X-Robots-Tag:noindex
X-PUBLISHED-TTL:PT1H
BEGIN:VTIMEZONE
TZID:America/Chicago
BEGIN:DAYLIGHT
TZOFFSETFROM:-0600
TZOFFSETTO:-0500
TZNAME:CDT
DTSTART:20250309T080000
END:DAYLIGHT
BEGIN:STANDARD
TZOFFSETFROM:-0500
TZOFFSETTO:-0600
TZNAME:CST
DTSTART:20251102T070000
END:STANDARD
BEGIN:DAYLIGHT
TZOFFSETFROM:-0600
TZOFFSETTO:-0500
TZNAME:CDT
DTSTART:20260308T080000
END:DAYLIGHT
BEGIN:STANDARD
TZOFFSETFROM:-0500
TZOFFSETTO:-0600
TZNAME:CST
DTSTART:20261101T070000
END:STANDARD
BEGIN:DAYLIGHT
TZOFFSETFROM:-0600
TZOFFSETTO:-0500
TZNAME:CDT
DTSTART:20270314T080000
END:DAYLIGHT
BEGIN:STANDARD
TZOFFSETFROM:-0500
TZOFFSETTO:-0600
TZNAME:CST
DTSTART:20271107T070000
END:STANDARD
END:VTIMEZONE
BEGIN:VEVENT
DTSTART;TZID=America/Chicago:20260317T130000
DTEND;TZID=America/Chicago:20260317T143000
DTSTAMP:20260422T172627
CREATED:20260212T175321Z
LAST-MODIFIED:20260316T141211Z
UID:10000048-1773752400-1773757800@www.heparks.org
SUMMARY:50+ Shamrock Bingo
DESCRIPTION:50+ Shamrock Bingo\nCelebrate St. Patrick’s Day with an afternoon of fun at 50 Plus Shamrock Bingo! Wear your green and enjoy a cozy gathering filled with bingo\, prizes\, coffee\, and sweet treats. It’s the perfect way to spend the afternoon with friends and a little Irish luck. \nDate: March 17\, 2026Time: 1:00–2:30 PMLocation: Triphahn Activity RoomFee: $5Program Code: 215317-C \nCome for the bingo\, stay for the laughs—and don’t forget to wear green!
URL:https://www.heparks.org/event/50-shamrock-bingo/
LOCATION:Triphahn Center & Ice Arena
CATEGORIES:50+ Events
ATTACH;FMTTYPE=image/png:https://www.heparks.org/wp-content/uploads/2026/02/shamrock-bingo.png
END:VEVENT
END:VCALENDAR