BEGIN:VCALENDAR
VERSION:2.0
PRODID:-//Hoffman Estates Park District - ECPv6.15.17.1//NONSGML v1.0//EN
CALSCALE:GREGORIAN
METHOD:PUBLISH
X-WR-CALNAME:Hoffman Estates Park District
X-ORIGINAL-URL:https://www.heparks.org
X-WR-CALDESC:Events for Hoffman Estates Park District
REFRESH-INTERVAL;VALUE=DURATION:PT1H
X-Robots-Tag:noindex
X-PUBLISHED-TTL:PT1H
BEGIN:VTIMEZONE
TZID:America/Chicago
BEGIN:DAYLIGHT
TZOFFSETFROM:-0600
TZOFFSETTO:-0500
TZNAME:CDT
DTSTART:20250309T080000
END:DAYLIGHT
BEGIN:STANDARD
TZOFFSETFROM:-0500
TZOFFSETTO:-0600
TZNAME:CST
DTSTART:20251102T070000
END:STANDARD
BEGIN:DAYLIGHT
TZOFFSETFROM:-0600
TZOFFSETTO:-0500
TZNAME:CDT
DTSTART:20260308T080000
END:DAYLIGHT
BEGIN:STANDARD
TZOFFSETFROM:-0500
TZOFFSETTO:-0600
TZNAME:CST
DTSTART:20261101T070000
END:STANDARD
BEGIN:DAYLIGHT
TZOFFSETFROM:-0600
TZOFFSETTO:-0500
TZNAME:CDT
DTSTART:20270314T080000
END:DAYLIGHT
BEGIN:STANDARD
TZOFFSETFROM:-0500
TZOFFSETTO:-0600
TZNAME:CST
DTSTART:20271107T070000
END:STANDARD
END:VTIMEZONE
BEGIN:VEVENT
DTSTART;TZID=America/Chicago:20260611T170000
DTEND;TZID=America/Chicago:20260611T200000
DTSTAMP:20260420T200226
CREATED:20260420T222542Z
LAST-MODIFIED:20260420T222542Z
UID:10000070-1781197200-1781208000@www.heparks.org
SUMMARY:Yappy Hour @ Bridges Beer Garden
DESCRIPTION:Join us at the Bridges Beer Garden\, enjoy live music from the School of Rock band and meet available dogs for adoption from Fetching Tails Foundation. \nFREE to attend and open to the public!
URL:https://www.heparks.org/event/yappy-hour-bridges-beer-garden-2/
LOCATION:Bridges Beer Garden
CATEGORIES:Special Events
ATTACH;FMTTYPE=image/png:https://www.heparks.org/wp-content/uploads/2026/04/HEParks-Web-Event-6-11-26-V2.png
END:VEVENT
END:VCALENDAR