BEGIN:VCALENDAR
VERSION:2.0
PRODID:-//Hoffman Estates Park District - ECPv6.15.17.1//NONSGML v1.0//EN
CALSCALE:GREGORIAN
METHOD:PUBLISH
X-WR-CALNAME:Hoffman Estates Park District
X-ORIGINAL-URL:https://www.heparks.org
X-WR-CALDESC:Events for Hoffman Estates Park District
REFRESH-INTERVAL;VALUE=DURATION:PT1H
X-Robots-Tag:noindex
X-PUBLISHED-TTL:PT1H
BEGIN:VTIMEZONE
TZID:America/Chicago
BEGIN:DAYLIGHT
TZOFFSETFROM:-0600
TZOFFSETTO:-0500
TZNAME:CDT
DTSTART:20250309T080000
END:DAYLIGHT
BEGIN:STANDARD
TZOFFSETFROM:-0500
TZOFFSETTO:-0600
TZNAME:CST
DTSTART:20251102T070000
END:STANDARD
BEGIN:DAYLIGHT
TZOFFSETFROM:-0600
TZOFFSETTO:-0500
TZNAME:CDT
DTSTART:20260308T080000
END:DAYLIGHT
BEGIN:STANDARD
TZOFFSETFROM:-0500
TZOFFSETTO:-0600
TZNAME:CST
DTSTART:20261101T070000
END:STANDARD
BEGIN:DAYLIGHT
TZOFFSETFROM:-0600
TZOFFSETTO:-0500
TZNAME:CDT
DTSTART:20270314T080000
END:DAYLIGHT
BEGIN:STANDARD
TZOFFSETFROM:-0500
TZOFFSETTO:-0600
TZNAME:CST
DTSTART:20271107T070000
END:STANDARD
END:VTIMEZONE
BEGIN:VEVENT
DTSTART;TZID=America/Chicago:20260522T170000
DTEND;TZID=America/Chicago:20260522T200000
DTSTAMP:20260420T200021
CREATED:20260420T214633Z
LAST-MODIFIED:20260420T220247Z
UID:10000068-1779469200-1779480000@www.heparks.org
SUMMARY:*Live Music* @ Bridges Beer Garden
DESCRIPTION:Ready to rock and roll through the decades? \nCome experience the popular StingRays live! Bringing you the best of the 50s\, 60s & 70s with unbeatable energy\, great food\, and dance-worthy vibes! \nFREE to attend and open to the public! Order food & beverages while listening to music in our beer garden.
URL:https://www.heparks.org/event/live-music-bridges-beer-garden/
LOCATION:Bridges Beer Garden
CATEGORIES:50+ Events,Special Events
ATTACH;FMTTYPE=image/png:https://www.heparks.org/wp-content/uploads/2026/04/HEParks-Web-Event-5-22-26-V3.png
END:VEVENT
END:VCALENDAR